BEGIN:VCALENDAR
VERSION:2.0
PRODID:-//NER Global - ECPv6.0.10//NONSGML v1.0//EN
CALSCALE:GREGORIAN
METHOD:PUBLISH
X-ORIGINAL-URL:https://www.nelsonenvironmentalusa.com
X-WR-CALDESC:Events for NER Global
REFRESH-INTERVAL;VALUE=DURATION:PT1H
X-Robots-Tag:noindex
X-PUBLISHED-TTL:PT1H
BEGIN:VTIMEZONE
TZID:America/Edmonton
BEGIN:DAYLIGHT
TZOFFSETFROM:-0700
TZOFFSETTO:-0600
TZNAME:MDT
DTSTART:20170312T090000
END:DAYLIGHT
BEGIN:STANDARD
TZOFFSETFROM:-0600
TZOFFSETTO:-0700
TZNAME:MST
DTSTART:20171105T080000
END:STANDARD
BEGIN:DAYLIGHT
TZOFFSETFROM:-0700
TZOFFSETTO:-0600
TZNAME:MDT
DTSTART:20180311T090000
END:DAYLIGHT
BEGIN:STANDARD
TZOFFSETFROM:-0600
TZOFFSETTO:-0700
TZNAME:MST
DTSTART:20181104T080000
END:STANDARD
END:VTIMEZONE
BEGIN:VEVENT
DTSTART;VALUE=DATE:20181010
DTEND;VALUE=DATE:20181013
DTSTAMP:20260420T133325
CREATED:20180814T171450Z
LAST-MODIFIED:20180920T154652Z
UID:4094-1539129600-1539388799@www.nelsonenvironmentalusa.com
SUMMARY:RemTech 2018
DESCRIPTION:NELSON Environmental Remediation is excited to be a part of the the 2018 Remediation Technologies Symposium located at the Fairmont Banff Springs! \nJoin us on October 10 to 12 for the three day event with keynote speakers\, networking\, and a chance to enhance your knowledge in soil remediation. NELSON is proud to be a sponsor of this year’s RemTech\, along with several other organizations.  \nThe keynote speakers this year are Jonathan Gee from Environment and Climate Change Canada speaking on the “Randle Reef Contaminated Sediment Remediation Project in Hamilton Harbour\, Ontario”; Brian Skerry\, a National Geographic photojournalist speaking on “Luminous Seas”; and Bill Weir\, storyteller and host of CNN’s the Wonder List who will be giving a presentation on the “Secrets and Stories of the Happiest\, Healthiest People on Earth”. \nIn addition\, several case-studies and presentations will be covered throughout the three-day technical program including topics on ex-situ treatment methods\, biological treatments\, electrochemical remediation\, phytoremediation\, and more! A great learning opportunity for professionals to gain knowledge in a wide spectrum of topics relating to soil remediation. \nThe first day of the event will conclude with a casino night with door prizes\, entertainment\, food\, and more. On the second day\, a tailgate party will be hosted for delegates to wear their favourite jersey and be entered to win more door prizes.  \nIt is highly encouraged for professionals from all industries (including but not limited to engineers\, pipeline professionals\, oil and gas professionals\, mining companies\, land developers and more) who have an interest in remediation of contaminated sites to attend RemTech. \nOur team will be in attendance including one of our directors\, John Tucker. Stop by booth #33 in the exhibitor hall to say hi! \nAbout RemTech\nOrganized by the Environmental Services Association of Alberta (ESAA)\, The Remediation Technologies Symposium 2018 (RemTech™ 2018) is the premier remediation technology transfer event for environmental professionals\, encompassing the latest innovations in soil and groundwater remediation. \nBuilding on the overwhelming success of last year’s event\, RemTech™ 2018 is expected to exceed the standards set by its predecessor. Offering a larger\, more diversified program\, with additional keynote speeches and networking sessions\, this is an event you won’t want to miss! \nConsiderable work is conducted in the field of contamination remediation and industrial pollutant treatments. RemTech™ 2018 provides a forum for industry experts to present these leading edge technologies. Co-sponsors and participating organizations include government\, academic institutions\, and private sector organizations active in site remediation\, research and application. \nRegister for RemTech 2018
URL:https://www.nelsonenvironmentalusa.com/event/remtech-2018/
LOCATION:Fairmont Banff Springs Hotel\, 405 Spray Ave\, Banff\, Alberta\, T1L 1J4\, Canada
CATEGORIES:Attending,Exhibiting
ATTACH;FMTTYPE=image/jpeg:https://www.nelsonenvironmentalusa.com/wp-content/uploads/2018/08/Banff-1.jpg
END:VEVENT
BEGIN:VEVENT
DTSTART;VALUE=DATE:20180920
DTEND;VALUE=DATE:20180921
DTSTAMP:20260420T133325
CREATED:20180814T170216Z
LAST-MODIFIED:20180919T165343Z
UID:4091-1537401600-1537487999@www.nelsonenvironmentalusa.com
SUMMARY:The Remediation Workshop in Vancouver\, BC
DESCRIPTION:Join us for our Remediation Workshop on Thursday\, September 20\, 2018\, which will be held in Vancouver\, BC at the Sheraton Vancouver Airport Hotel. \n\n\n\n\n\n\nEnjoy an entertaining day with colleagues in the remediation industry discussing technologies with expertise from across Canada. Professional development hours earned\, lunch served and no cost to register… you can’t beat that for an investment of a day learning more about our remediation industry and networking with old friends while making new ones! \nThis workshop includes 8 hours of Professional Development Hours (PDH’s) for attending. \nParking:$4.50/hour\, or a flat rate of $15.00 \n\n\n\n\n\n\nRegister Now for this WorkshopVancouver Workshop Schedule:\n10:30 AM \nSign-in and networking with exhibitors\nHot buffet-style lunch is served at 11:00 a.m. \n11:30 AM \nWelcome and remarks from Environmental Workshops \n11:45 AM \nOpening discussion \n12:00 PM \nPresentations: \nDora Taggart – “Molecular Biological Tools (MBTs): Actionable Data for Site Management?”\nTyler Schierholtz – “Evolution\, Not Revolution: Innovative Strategies to Address New Contaminants and Complex Sites” \n1:00 PM \nBreak \n1:20 PM \nPresentations: \nJean Paré – “Oxidant Selection and Activation — Keys to Successful Contaminant Destruction”\nPete Craig – “Specialty Construction Techniques For Difficult Soil And Groundwater Problems” \n2:20 PM \nBreak \n2:40 PM \nPresentations: \nBruce Tunnicliffe – “Using High Resolution Characterization to Enhance Remediation”\nDarryl Nelson – “Mobile Thermal Desorption — Clean Dirt\, No Doubt!” \n3:40 PM \nBreak \n4:00 PM \nPresentations: \nBen Sweet – “Rapid Soil Analysis via Near-Infrared Reflectance Spectroscopy (NIRS) and Computer Automation”\nTed Wittemann – “Tools of the Trade: Your Remedial Investigation Solutions” \n5:00 PM \nAfter-hours networking \nAdditional Information:\n\n\n\n\n\n\nOver 10\,000 people have registered for our workshops in North America and there is typically a good mix of consultants\, regulators\, and industrial managers.  Thanks to the workshop sponsors & exhibitors there is NO CHARGE for you to attend. Additionally\, a hot lunch buffet will be provided and you’ll receive a certificate for 4 PDH credits. \n  \n\n\n\n\n\n\nWatch the following video for a quick peek inside our workshops.
URL:https://www.nelsonenvironmentalusa.com/event/remediation-workshop-vancouver/
LOCATION:Sheraton Vancouver Airport Hotel\, 7551 Westminster Highway\, Richmond\, BC\, V6X 1A3\, Canada
CATEGORIES:Attending,Speaking Engagement
ATTACH;FMTTYPE=image/jpeg:https://www.nelsonenvironmentalusa.com/wp-content/uploads/2017/10/IMG_20170920_1606592.jpg
ORGANIZER;CN="Stephanie%20Garrett":MAILTO:stephanie@enviroworkshops.com
END:VEVENT
BEGIN:VEVENT
DTSTART;VALUE=DATE:20180919
DTEND;VALUE=DATE:20180920
DTSTAMP:20260420T133325
CREATED:20180814T163542Z
LAST-MODIFIED:20180814T212007Z
UID:4082-1537315200-1537401599@www.nelsonenvironmentalusa.com
SUMMARY:The Remediation Workshop in Calgary\, AB
DESCRIPTION:Join us for our Remediation Workshop on Wednesday\, September 19\, 2018\, which will be held at the Wyndham by Calgary Airport in Calgary\, AB. \n\n\n\n\n\n\nEnjoy an entertaining day with colleagues in the remediation industry discussing technologies with expertise from across Canada. Professional development hours earned\, lunch served and no cost to register… you can’t beat that for an investment of a day learning more about our remediation industry and networking with old friends while making new ones! \nThis workshop includes 8 hours of Professional Development Hours (PDH’s) for attending. \nParking: Complimentary \n\n\n\n\n\n\nRegister Now for this WorkshopCalgary Workshop Schedule:\n10:30 AM \nSign-in and networking with exhibitors\nHot buffet-style lunch is served at 11:00 a.m. \n11:30 AM \nWelcome and remarks from Environmental Workshops \n11:45 AM \nOpening discussion \n12:00 PM \nPresentations: \nDarryl Nelson – “Mobile Thermal Desorption — Clean Dirt\, No Doubt!”\nDora Taggart – “Molecular Biological Tools (MBTs): Actionable Data for Site Management?” \n1:00 PM \nBreak \n1:20 PM \nPresentations: \nNathan Coughenour – “Specialty Construction Techniques for Difficult Soil and Groundwater Problems”\nBruce Tunnicliffe – “Using High Resolution Characterization to Enhance Remediation” \n2:20 PM \nBreak \n2:40 PM \nPresentations: \nTed Wittemann – “Tools of the Trade: Your Remedial Investigation Solutions”\nJean Paré – “Oxidant Selection and Activation — Keys to Successful Contaminant Destruction” \n3:40 PM \nBreak \n4:00 PM \nPresentations: \nBen Sweet – “Rapid Soil Analysis via Near-Infrared Reflectance Spectroscopy (NIRS) and Computer Automation”\nTyler Schierholtz – “Evolution\, Not Revolution: Innovative Strategies to Address New Contaminants and Complex Sites” \n5:00 PM \nAfter-hours networking \nAdditional Information:\n\n\n\n\n\n\nOver 10\,000 people have registered for our workshops in North America and there is typically a good mix of consultants\, regulators\, and industrial managers.  Thanks to the workshop sponsors & exhibitors there is NO CHARGE for you to attend. Additionally\, a hot lunch buffet will be provided and you’ll receive a certificate for 4 PDH credits. \n  \n\n\n\n\n\n\nWatch the following video for a quick peek inside our workshops.
URL:https://www.nelsonenvironmentalusa.com/event/remediation-workshop-calgary/
LOCATION:Wyndham by Calgary Airport\, 11 Freeport Cres NE\, Calgary\, Alberta\, T3J 0T4\, Canada
CATEGORIES:Attending,Speaking Engagement
ATTACH;FMTTYPE=image/jpeg:https://www.nelsonenvironmentalusa.com/wp-content/uploads/2017/10/IMG_20170920_1606592.jpg
ORGANIZER;CN="Stephanie%20Garrett":MAILTO:stephanie@enviroworkshops.com
END:VEVENT
BEGIN:VEVENT
DTSTART;VALUE=DATE:20171109
DTEND;VALUE=DATE:20171110
DTSTAMP:20260420T133326
CREATED:20171026T151157Z
LAST-MODIFIED:20171030T202618Z
UID:2518-1510185600-1510271999@www.nelsonenvironmentalusa.com
SUMMARY:The Remediation Workshop in Montreal\, QC
DESCRIPTION:Join us for our Remediation Workshop on Thursday\, November 9th\, which will be held at the Holiday Inn Montreal Centreville Downtown in Montreal\, QC. \n\n\n\n\n\n\nEnjoy an entertaining day with colleagues in the remediation industry discussing technologies with expertise from across Canada. Professional development hours earned\, lunch served and no cost to register… you can’t beat that for an investment of a day learning more about our remediation industry and networking with old friends while making new ones! \nParking: $22 discounted rate \n\n\n\n\n\n\nRegister Now for this WorkshopMontreal Workshop Schedule:\n11:15 AM \nSign-in and networking with exhibitors\nBuffet-style lunch served during sign-in. \n11:30 AM \nWelcome and remarks from Environmental Workshops \n11:45 AM \nPresentations: \nJean Paré – “Oxidant Selection and Activation — Keys to Successful Contaminant Destruction”\nDora Taggart – “Incorporating Molecular Biological Tools into Site Management” \n12:45 AM \nCoffee break \n1:00 PM \nPresentations: \nJason Nagasawa – “Remote Monitoring Made Real Time”\nGeorge ‘Bud’ Ivey – “Surfactant Enhanced Push-Pull Method for In-situ Remediation of Petroleum Contaminated Soil and Groundwater” \n2:00 PM \nCoffee break \n2:15 PM \nPresentations: \nKevin French – “Remediating Those Pesky cVOC Plumes Once and For All”\nBen Sweet – “Innovative High Resolution Site Characterization (HRSC) Technologies” \n3:15 PM \nCoffee break \n3:30 PM \nPresentations: \nTyler Schierholtz – “Putting the Pieces Together: Achieving Project Success by Utilizing an Integrated Approach to Site Remediation”\nPierre Yves Robidoux – “Environmental Risk Assessment Tools for Contaminated Site Assessment and Remediation Projects”\nDarryl Nelson – “Mobile Thermal Desorption – “Clean Dirt\, No Doubt!” \n5:00 PM \nAfter-hours networking \nAdditional Information:\n\n\n\n\n\n\nOver 10\,000 people have registered for our workshops in North America and there is typically a good mix of consultants\, regulators\, and industrial managers.  Thanks to the workshop sponsors & exhibitors there is NO CHARGE for you to attend. Additionally\, a hot lunch buffet will be provided and you’ll receive a certificate for 4 PDH credits. \n  \n\n\n\n\n\n\nWatch the following video for a quick peek inside our workshops.
URL:https://www.nelsonenvironmentalusa.com/event/remediation-workshop-montreal-qc/
LOCATION:Holiday Inn Montreal Centreville Downtown\, 999 St Urbain St.\, Montreal\, QC\, H2Z0B4\, Canada
CATEGORIES:Attending,Speaking Engagement
ATTACH;FMTTYPE=image/jpeg:https://www.nelsonenvironmentalusa.com/wp-content/uploads/2017/10/IMG_20170920_1606592.jpg
ORGANIZER;CN="Stephanie%20Garrett":MAILTO:stephanie@enviroworkshops.com
END:VEVENT
BEGIN:VEVENT
DTSTART;VALUE=DATE:20171108
DTEND;VALUE=DATE:20171109
DTSTAMP:20260420T133326
CREATED:20171025T222855Z
LAST-MODIFIED:20171030T202518Z
UID:2514-1510099200-1510185599@www.nelsonenvironmentalusa.com
SUMMARY:The Remediation Workshop in Ottawa\, ON
DESCRIPTION:Join us for our Remediation Workshop on Wednesday\, November 8th\, which will be held at the Ottawa Marriott Hotel in Ottawa\, ON. \n \n\n\n\n\n\n\nEnjoy an entertaining day with colleagues in the remediation industry discussing technologies with expertise from across Canada. Professional development hours earned\, lunch served and no cost to register… you can’t beat that for an investment of a day learning more about our remediation industry and networking with old friends while making new ones! \nParking: $18/car \n\n\n\n\n\n\nRegister Now for this WorkshopOttawa Workshop Schedule:\n11:00 AM \nSign-in and networking with exhibitors\nBuffet-style lunch served during sign-in. \n11:15 AM \nWelcome and remarks from Environmental Workshops \n11:30 AM \nOpening discussions: \nCraig Wells – “Super-Bugs\, Surfactants and Sapphires: Innovation through Diversification” \n11:45 AM \nPresentations: \nJames MacDonald – “Petroleum Hydrocarbon Environmental Forensics”\nJason Nagasawa – “Remote Monitoring Made Real Time” \n12:45 PM \nCoffee break \n1:00 PM \nPresentations: \nDora Taggart – “Incorporating Molecular Biological Tools into Site Management”\nGeorge ‘Bud’ Ivey – “Surfactant Enhanced Push-Pull Method for In-situ Remediation of Petroleum Contaminated Soil and Groundwater” \n2:00 PM \nCoffee break \n2:15 PM \nPresentations: \nBen Sweet – “Innovative High Resolution Site Characterization (HRSC) Technologies”\nTyler Schierholtz – “Putting the Pieces Together: Achieving Project Success by Utilizing an Integrated Approach to Site Remediation” \n3:15 PM \nCoffee break \n3:30 PM \nPresentations: \nDarryl Nelson – “Mobile Thermal Desorption – “Clean Dirt\, No Doubt!”\nKevin French – “Remediating Those Pesky cVOC Plumes Once and For All”\nJean Paré – “Oxidant Selection and Activation — Keys to Successful Contaminant Destruction” \n5:00 PM \nAfter-hours networking \nAdditional Information:\n\n\n\n\n\n\nOver 10\,000 people have registered for our workshops in North America and there is typically a good mix of consultants\, regulators\, and industrial managers.  Thanks to the workshop sponsors & exhibitors there is NO CHARGE for you to attend. Additionally\, a hot lunch buffet will be provided and you’ll receive a certificate for 4 PDH credits. \n  \n\n\n\n\n\n\nWatch the following video for a quick peek inside our workshops.
URL:https://www.nelsonenvironmentalusa.com/event/remediation-workshop-ottawa-on/
LOCATION:Ottawa Marriott Hotel\, 100 Kent St\, Ottawa\, ON\, K1P5R7\, Canada
CATEGORIES:Attending,Speaking Engagement
ATTACH;FMTTYPE=image/jpeg:https://www.nelsonenvironmentalusa.com/wp-content/uploads/2017/10/IMG_20170920_1606592.jpg
ORGANIZER;CN="Stephanie%20Garrett":MAILTO:stephanie@enviroworkshops.com
END:VEVENT
BEGIN:VEVENT
DTSTART;VALUE=DATE:20171107
DTEND;VALUE=DATE:20171108
DTSTAMP:20260420T133326
CREATED:20171025T214343Z
LAST-MODIFIED:20171026T221730Z
UID:2510-1510012800-1510099199@www.nelsonenvironmentalusa.com
SUMMARY:The Remediation Workshop in Toronto\, ON
DESCRIPTION:Join us for our Remediation Workshop on Tuesday\, November 7th\, which will be held at the Holiday Inn Guelph Hotel & Conference Centre in Guelph\, ON. \n\n\n\n\n\n\nEnjoy an entertaining day with colleagues in the remediation industry discussing technologies with expertise from across Canada. Professional development hours earned\, lunch served and no cost to register… you can’t beat that for an investment of a day learning more about our remediation industry and networking with old friends while making new ones! \n\n\n\n\n\n\nRegister Now for this Workshop  \nToronto Workshop Schedule:\n11:00 AM \nSign-in and networking with exhibitors\nBuffet-style lunch served during sign-in. \n11:15 AM \nWelcome and remarks from Environmental Workshops \n11:30 AM \nOpening discussions: \nCraig Wells – “Super-Bugs\, Surfactants and Sapphires: Innovation through Diversification” \n11:45 AM \nPresentations: \nJason Nagasawa – “Remote Monitoring Made Real Time”\nGeorge ‘Bud’ Ivey – “Surfactant Enhanced Push-Pull Method for In-situ Remediation of Petroleum Contaminated Soil and Groundwater” \n12:45 PM \nCoffee break \n1:00 PM \nPresentations: \nDora Taggart – “Incorporating Molecular Biological Tools into Site Management”\nJean Paré – “Oxidant Selection and Activation — Keys to Successful Contaminant Destruction” \n2:00 PM \nCoffee break \n2:15 PM \nPresentations: \nBruce Tunnicliffe – “Using High Resolution Characterization to Enhance Remediation”\nBen Sweet – “Innovative High Resolution Site Characterization (HRSC) Technologies” \n3:15 PM \nCoffee break \n3:30 PM \nPresentations: \nTyler Schierholtz – “Putting the Pieces Together: Achieving Project Success by Utilizing an Integrated Approach to Site Remediation”\nJames MacDonald – “Petroleum Hydrocarbon Environmental Forensics”\nDarryl Nelson – “Mobile Thermal Desorption – “Clean Dirt\, No Doubt!” \n5:00 PM \nAfter-hours networking \nAdditional Information:\n\n\n\n\n\n\nOver 10\,000 people have registered for our workshops in North America and there is typically a good mix of consultants\, regulators\, and industrial managers.  Thanks to the workshop sponsors & exhibitors there is NO CHARGE for you to attend. Additionally\, a hot lunch buffet will be provided and you’ll receive a certificate for 4 PDH credits. \n  \n\n\n\n\n\n\nWatch the following video for a quick peek inside our workshops.
URL:https://www.nelsonenvironmentalusa.com/event/remediation-workshop-toronto-on/
LOCATION:Holiday Inn Guelph Hotel & Conference Ctr\, 601 Scottsdale Dr\, Guelph\, ONT\, N1G3E7\, Canada
CATEGORIES:Attending,Speaking Engagement
ATTACH;FMTTYPE=image/jpeg:https://www.nelsonenvironmentalusa.com/wp-content/uploads/2017/10/IMG_20170920_1606592.jpg
ORGANIZER;CN="Stephanie%20Garrett":MAILTO:stephanie@enviroworkshops.com
END:VEVENT
BEGIN:VEVENT
DTSTART;TZID=America/Edmonton:20171027T080000
DTEND;TZID=America/Edmonton:20171027T170000
DTSTAMP:20260420T133326
CREATED:20171027T150813Z
LAST-MODIFIED:20171027T150813Z
UID:2538-1509091200-1509123600@www.nelsonenvironmentalusa.com
SUMMARY:Canadian Remediation Workshops
DESCRIPTION:  \nJoin us for networking opportunities!\nView this email in your browser \nNovember 7-9th: Canadian Remediation Workshops \nEvent Calendar for Remediation Workshops\nNELSON Environmental would like to invite you to attend one of three workshops held in Toronto\, Ottawa and Montreal from November 7-9th\, 2017. Darryl Nelson of NELSON Environmental will be speaking at each workshop. Join us for the opportunity to network with several consultants\, regulators and industrial managers! \nThis workshop is FREE OF CHARGE thanks to our sponsors and exhibitors. Register for one of three workshops below! \nA hot lunch will be provided. Attendees will also receive a certificate for 4 PDH credits. \nFull workshop details and registration \nTORONTO\nNovember 7\, 2017\nHoliday Inn Guelph Hotel & Conference Centre\nRegister \nOTTAWA\nNovember 8\, 2017\nOttawa Marriott Hotel \nRegister \nMONTREAL\nNovember 9\, 2017\nHoliday Inn Montreal Centreville Downtown\nRegister\nCopyright © 2012-2017 Nelson Environmental Remediation\, All rights reserved. \ninfo@NERglobal.com • 1.888.960.8222 • 1.780.960.3660\nWebsite\nLinkedIn \n  \n  \n  \nThis email was sent to\nedith.spencer@NERglobal.com \nwhy did I get this? \nunsubscribe from this list \nupdate subscription preferences \nNelson Environmental Remediation ·\n26519c Township Rd\n530 ·\nSpruce Grove\, Ab T7X 3L5\n· Canada \nEmail Marketing Powered by MailChimp \n 
URL:https://www.nelsonenvironmentalusa.com/event/canadian-remediation-workshops/
LOCATION:Alberta
CATEGORIES:Attending,Speaking Engagement
END:VEVENT
BEGIN:VEVENT
DTSTART;VALUE=DATE:20171011
DTEND;VALUE=DATE:20171014
DTSTAMP:20260420T133326
CREATED:20171002T215558Z
LAST-MODIFIED:20171002T221225Z
UID:2062-1507680000-1507939199@www.nelsonenvironmentalusa.com
SUMMARY:RemTech 2017
DESCRIPTION:The Remediation Technologies Symposium 2017 (RemTech™ 2017) is the premier remediation technology transfer event for environmental professionals\, encompassing the latest innovations in soil and groundwater remediation. \nBuilding on the overwhelming success of last year’s event\, RemTech™ 2017 is expected to exceed the standards set by its predecessor. Offering a larger\, more diversified program\, with additional keynote speeches and networking sessions\, this is an event you won’t want to miss! \nConsiderable work is conducted in the field of contamination remediation and industrial pollutant treatments. RemTech™ 2017 provides a forum for industry experts to present these leading edge technologies. Co-sponsors and participating organizations include government\, academic institutions\, and private sector organizations active in site remediation\, research and application.
URL:https://www.nelsonenvironmentalusa.com/event/remtech-2017/
LOCATION:Fairmont Banff Springs Hotel\, 405 Spray Ave\, Banff\, Alberta\, T1L 1J4\, Canada
CATEGORIES:Attending,Exhibiting
ORGANIZER;CN="ESAA":MAILTO:info@esaa.org
END:VEVENT
BEGIN:VEVENT
DTSTART;VALUE=DATE:20170921
DTEND;VALUE=DATE:20170922
DTSTAMP:20260420T133326
CREATED:20170908T161326Z
LAST-MODIFIED:20170908T202307Z
UID:2036-1505952000-1506038399@www.nelsonenvironmentalusa.com
SUMMARY:The Remediation Workshop in Vancouver\, BC
DESCRIPTION:Join us for our Remediation Workshop on Thursday\, September 21st\, which will be held at the Pacific Gateway Hotel Vancouver. \nEnjoy an entertaining day with colleagues in the remediation industry discussing technologies with expertise from across Canada. Professional development hours earned\, lunch served and no cost to register… you can’t beat that for an investment of a day learning more about our remediation industry and networking with old friends while making new ones! \n\n\n\n\n\n\nRegister Now for this WorkshopPre-Register Vehicle for Complimentary Parking  \nVancouver Workshop Schedule:\n11:15 AM \nRegistration\, hot buffet lunch is served\, and networking with exhibitors \n11:45 AM \nWelcome from a Workshop Representative \n12:00 PM \nBud Ivey – “Surfactant Enhanced Push-Pull Method for In-situ Remediation of Petroleum Contaminated Soil and Groundwater” \n12:35 PM \nJason Nagasawa – “High Resolution and Cost-Effective Field Screening Measures during Site Assessment and ongoing Remedial Efforts” \n1:10 PM \nBreak \n1:30 PM \nFrank Phillips – “Incorporating Molecular Biological Tools into Site Management” \n2:05 PM \nJean Paré – “Tackling Chlorinated Solvent Contamination — What Are the Options?” \n2:40 PM \nBreak \n3:00 PM \nBruce Tunnicliffe – “Using High Resolution Characterization to Enhance Remediation” \n3:35 PM \nBen Sweet – “Innovative High Resolution Site Characterization (HRSC) Technologies” \n4:10 PM \nBreak \n4:25 PM \nDarryl Nelson – “Mobile Thermal Desorption” – “Clean Dirt\, No Doubt!” \n5:00 PM \nAfter-hours networking hosted by Ivey International \nAdditional Information:\n\n\n\n\n\n\nOver 7\,000 people have registered for our workshops in North America and there is typically a good mix of consultants\, regulators\, and industrial managers.  Thanks to the workshop sponsors & exhibitors there is NO CHARGE for you to attend. Additionally\, a hot lunch buffet will be provided and you’ll receive a certificate for 4 PDH credits. \n  \n\n\n\n\n\n\nWatch the following video for a quick peek inside our workshops.
URL:https://www.nelsonenvironmentalusa.com/event/remediation-workshop-vancouver-bc/
LOCATION:Pacific Gateway Hotel\, 3500 Cessna Dr\, Richmond\, British Columbia\, V7B 1C7\, Canada
CATEGORIES:Attending,Speaking Engagement
ORGANIZER;CN="Stephanie%20Garrett":MAILTO:stephanie@enviroworkshops.com
END:VEVENT
BEGIN:VEVENT
DTSTART;VALUE=DATE:20170920
DTEND;VALUE=DATE:20170921
DTSTAMP:20260420T133326
CREATED:20170822T213303Z
LAST-MODIFIED:20170911T150534Z
UID:1925-1505865600-1505951999@www.nelsonenvironmentalusa.com
SUMMARY:The Remediation Workshop in Edmonton\, AB
DESCRIPTION:Join us for our Remediation Workshop on Wednesday\, September 20th\, which will be held in the “Top of the Inn” room at the Delta South Hotel Edmonton. \nWe are pleased to host the Edmonton event as this series crosses Canada. Enjoy an entertaining day with colleagues in the remediation industry discussing technologies with expertise from across Canada. Professional development hours earned\, lunch served and no cost to register… you can’t beat that for an investment of a day learning more about our remediation industry and networking with old friends while making new ones! \n\n\n\n\n\n\nRegister Now for this WorkshopHosting the Edmonton Workshop:\n \nNelson Environmental Remediation \n\n\n\n\n\n\n\n\n\n\n\n\n\n\n\n\n\n\n\nDarryl Nelson\, President at Nelson Environmental Remediation\n\n\n\n\n\n\nEdmonton Workshop Schedule:\n11:15 AM \nRegistration\, hot buffet lunch is served\, and networking with exhibitors \n11:45 AM \nWelcome from a Workshop Representative \n12:00 PM \nDarryl Nelson – “Mobile Thermal Desorption” – “Clean Dirt\, No Doubt!” \n12:35 PM \nFrank Phillips – “Incorporating Molecular Biological Tools into Site Management” \n1:10 PM \nBreak \n1:30 PM \nBud Ivey – “Surfactant Enhanced Push-Pull Method for In-situ Remediation of Petroleum Contaminated Soil and Groundwater” \n2:05 PM \nJohn Shaw – “Remote Monitoring Made Real Time” \n2:40 PM \nBreak \n3:00 PM \nJean Paré – “Tackling Chlorinated Solvent Contamination — What Are the Options?” \n3:35 PM \nBruce Tunnicliffe – “Using High Resolution Characterization to Enhance Remediation” \n4:10 PM \nBreak \n4:25 PM \nBen Sweet – “Innovative High Resolution Site Characterization (HRSC) Technologies” \n5:00 PM \nAfter-hours networking hosted by Nelson Environmental Remediation \nAdditional Information:\n\n\n\n\n\n\nOver 7\,000 people have registered for our workshops in North America and there is typically a good mix of consultants\, regulators\, and industrial managers.  Thanks to the workshop sponsors & exhibitors there is NO CHARGE for you to attend. Additionally\, a hot lunch buffet will be provided and you’ll receive a certificate for 4 PDH credits. \nWatch the following video for a quick peek inside our workshops.
URL:https://www.nelsonenvironmentalusa.com/event/remediation-workshop-edmonton-ab/
LOCATION:Delta South Hotel Edmonton\, 4404 Gateway Blvd NW\, Edmonton\, Alberta\, T6H 5C2\, Canada
CATEGORIES:Attending,Speaking Engagement
ORGANIZER;CN="Stephanie%20Garrett":MAILTO:stephanie@enviroworkshops.com
END:VEVENT
BEGIN:VEVENT
DTSTART;VALUE=DATE:20170719
DTEND;VALUE=DATE:20170720
DTSTAMP:20260420T133326
CREATED:20170705T161010Z
LAST-MODIFIED:20170705T161010Z
UID:1610-1500422400-1500508799@www.nelsonenvironmentalusa.com
SUMMARY:ESAA Golf Tournament
DESCRIPTION:NELSON is a proud sponsor of the Brian Winters Memorial Golf Tournament hosted by ESAA on Wednesday\, July 19\, 2017. We are sponsoring Hole 6 and will feature local\, seasonal craft brew from Troubled Monk Brewing. We look forward to catching up with friends and colleagues. https://www.esaa.org/golf/
URL:https://www.nelsonenvironmentalusa.com/event/esaa-golf-tournament/
LOCATION:Alberta Springs Golf Resort\, Red Deer\, Alberta\, Canada
CATEGORIES:Attending
END:VEVENT
BEGIN:VEVENT
DTSTART;VALUE=DATE:20170602
DTEND;VALUE=DATE:20170603
DTSTAMP:20260420T133326
CREATED:20170525T184145Z
LAST-MODIFIED:20170530T175043Z
UID:1548-1496361600-1496447999@www.nelsonenvironmentalusa.com
SUMMARY:8th Annual SMash out MS Charity Golf Tournament
DESCRIPTION:Nelson Environmental Remediation is proud to once again be sponsoring a hole for the 8th Annual SMash out MS Charity Golf Tournament. This event will be occurring June 2nd at The Ranch Golf & Country Club\, in Edmonton. Be sure to stop by the NELSON BBQ hole and say hello! We’ll be BBQ’ing brats from Sandyview Farms again.
URL:https://www.nelsonenvironmentalusa.com/event/8th-annual-smash-ms-charity-golf-tournament/
LOCATION:The Ranch Golf & Country Club\, Edmonton\, Alberta\, T7X 5A2\, Canada
CATEGORIES:Attending,Charity
END:VEVENT
END:VCALENDAR