BEGIN:VCALENDAR
VERSION:2.0
PRODID:-//NER Global - ECPv6.0.10//NONSGML v1.0//EN
CALSCALE:GREGORIAN
METHOD:PUBLISH
X-WR-CALNAME:NER Global
X-ORIGINAL-URL:https://www.nelsonenvironmentalusa.com
X-WR-CALDESC:Events for NER Global
REFRESH-INTERVAL;VALUE=DURATION:PT1H
X-Robots-Tag:noindex
X-PUBLISHED-TTL:PT1H
BEGIN:VTIMEZONE
TZID:America/Edmonton
BEGIN:DAYLIGHT
TZOFFSETFROM:-0700
TZOFFSETTO:-0600
TZNAME:MDT
DTSTART:20160313T090000
END:DAYLIGHT
BEGIN:STANDARD
TZOFFSETFROM:-0600
TZOFFSETTO:-0700
TZNAME:MST
DTSTART:20161106T080000
END:STANDARD
BEGIN:DAYLIGHT
TZOFFSETFROM:-0700
TZOFFSETTO:-0600
TZNAME:MDT
DTSTART:20170312T090000
END:DAYLIGHT
BEGIN:STANDARD
TZOFFSETFROM:-0600
TZOFFSETTO:-0700
TZNAME:MST
DTSTART:20171105T080000
END:STANDARD
END:VTIMEZONE
BEGIN:VEVENT
DTSTART;VALUE=DATE:20170602
DTEND;VALUE=DATE:20170603
DTSTAMP:20260422T063751
CREATED:20170525T184145Z
LAST-MODIFIED:20170530T175043Z
UID:1548-1496361600-1496447999@www.nelsonenvironmentalusa.com
SUMMARY:8th Annual SMash out MS Charity Golf Tournament
DESCRIPTION:Nelson Environmental Remediation is proud to once again be sponsoring a hole for the 8th Annual SMash out MS Charity Golf Tournament. This event will be occurring June 2nd at The Ranch Golf & Country Club\, in Edmonton. Be sure to stop by the NELSON BBQ hole and say hello! We’ll be BBQ’ing brats from Sandyview Farms again.
URL:https://www.nelsonenvironmentalusa.com/event/8th-annual-smash-ms-charity-golf-tournament/
LOCATION:The Ranch Golf & Country Club\, Edmonton\, Alberta\, T7X 5A2\, Canada
CATEGORIES:Attending,Charity
END:VEVENT
BEGIN:VEVENT
DTSTART;VALUE=DATE:20160810
DTEND;VALUE=DATE:20160811
DTSTAMP:20260422T063751
CREATED:20160622T172313Z
LAST-MODIFIED:20160622T172313Z
UID:1308-1470787200-1470873599@www.nelsonenvironmentalusa.com
SUMMARY:CLRA Golf Tournament
DESCRIPTION:A proud member of CLRA\, Nelson will be participating in the annual golf tournament held in August at the Innisfail Golf Club.
URL:https://www.nelsonenvironmentalusa.com/event/clra-golf-tournament/
LOCATION:Innisfail Golf and Country Club\, Innisfail\, alberta\, Canada
CATEGORIES:Charity
END:VEVENT
BEGIN:VEVENT
DTSTART;VALUE=DATE:20160722
DTEND;VALUE=DATE:20160723
DTSTAMP:20260422T063751
CREATED:20160622T172027Z
LAST-MODIFIED:20160622T172027Z
UID:1305-1469145600-1469231999@www.nelsonenvironmentalusa.com
SUMMARY:Brian Winters Memorial
DESCRIPTION:Nelson will be attending this years annual Brian Winters Memorial Golf tournament\, an ESAA Golf Tournament. Nelson is a hole sponsor and looks forward to the event.
URL:https://www.nelsonenvironmentalusa.com/event/brian-winters-memorial/
LOCATION:Alberta Springs Golf Resort\, Red Deer\, Alberta\, Canada
CATEGORIES:Charity
END:VEVENT
BEGIN:VEVENT
DTSTART;TZID=America/Edmonton:20160715T080000
DTEND;TZID=America/Edmonton:20160715T170000
DTSTAMP:20260422T063751
CREATED:20160622T171324Z
LAST-MODIFIED:20160622T171420Z
UID:1302-1468569600-1468602000@www.nelsonenvironmentalusa.com
SUMMARY:CREW Golf Tournament
DESCRIPTION:Nelson Environmental Remediation is participating in this years CREW Golf Tournament held at The Ranch Golf & Country Club. This will be the 7th annual SMash Out MS Charity Golf Tournament and the Nelson team is looking forward to participating! Nelson will be sponsoring a hole.
URL:https://www.nelsonenvironmentalusa.com/event/crew-golf-tournament/
LOCATION:The Ranch Golf & Country Club\, Edmonton\, Alberta\, T7X 5A2\, Canada
CATEGORIES:Charity
ATTACH;FMTTYPE=image/png:https://www.nelsonenvironmentalusa.com/wp-content/uploads/2016/06/CREW-Golf-Tournament.png
END:VEVENT
END:VCALENDAR